BEGIN:VCALENDAR
VERSION:2.0
PRODID:-//Saukville Chamber of Commerce - ECPv6.15.20//NONSGML v1.0//EN
CALSCALE:GREGORIAN
METHOD:PUBLISH
X-WR-CALNAME:Saukville Chamber of Commerce
X-ORIGINAL-URL:https://saukvillechamber.org
X-WR-CALDESC:Events for Saukville Chamber of Commerce
REFRESH-INTERVAL;VALUE=DURATION:PT1H
X-Robots-Tag:noindex
X-PUBLISHED-TTL:PT1H
BEGIN:VTIMEZONE
TZID:America/Chicago
BEGIN:DAYLIGHT
TZOFFSETFROM:-0600
TZOFFSETTO:-0500
TZNAME:CDT
DTSTART:20250309T080000
END:DAYLIGHT
BEGIN:STANDARD
TZOFFSETFROM:-0500
TZOFFSETTO:-0600
TZNAME:CST
DTSTART:20251102T070000
END:STANDARD
BEGIN:DAYLIGHT
TZOFFSETFROM:-0600
TZOFFSETTO:-0500
TZNAME:CDT
DTSTART:20260308T080000
END:DAYLIGHT
BEGIN:STANDARD
TZOFFSETFROM:-0500
TZOFFSETTO:-0600
TZNAME:CST
DTSTART:20261101T070000
END:STANDARD
BEGIN:DAYLIGHT
TZOFFSETFROM:-0600
TZOFFSETTO:-0500
TZNAME:CDT
DTSTART:20270314T080000
END:DAYLIGHT
BEGIN:STANDARD
TZOFFSETFROM:-0500
TZOFFSETTO:-0600
TZNAME:CST
DTSTART:20271107T070000
END:STANDARD
END:VTIMEZONE
BEGIN:VEVENT
DTSTART;TZID=America/Chicago:20260328T100000
DTEND;TZID=America/Chicago:20260328T140000
DTSTAMP:20260420T054933
CREATED:20260130T015808Z
LAST-MODIFIED:20260130T015809Z
UID:2998-1774692000-1774706400@saukvillechamber.org
SUMMARY:Saukville Winter Market
DESCRIPTION:
URL:https://saukvillechamber.org/event/saukville-winter-market-3/
END:VEVENT
BEGIN:VEVENT
DTSTART;TZID=America/Chicago:20260411T100000
DTEND;TZID=America/Chicago:20260411T140000
DTSTAMP:20260420T054933
CREATED:20260130T015853Z
LAST-MODIFIED:20260130T015853Z
UID:3001-1775901600-1775916000@saukvillechamber.org
SUMMARY:Saukville Winter Market
DESCRIPTION:
URL:https://saukvillechamber.org/event/saukville-winter-market-4/
END:VEVENT
BEGIN:VEVENT
DTSTART;TZID=America/Chicago:20260422T150000
DTEND;TZID=America/Chicago:20260422T160000
DTSTAMP:20260420T054933
CREATED:20260419T161531Z
LAST-MODIFIED:20260419T161532Z
UID:3038-1776870000-1776873600@saukvillechamber.org
SUMMARY:Ribbon Cutting @ Redstone Kitchen
DESCRIPTION:
URL:https://saukvillechamber.org/event/ribbon-cutting-redstone-kitchen/
END:VEVENT
BEGIN:VEVENT
DTSTART;TZID=America/Chicago:20260516T090000
DTEND;TZID=America/Chicago:20260516T160000
DTSTAMP:20260420T054933
CREATED:20260419T175431Z
LAST-MODIFIED:20260419T175432Z
UID:3043-1778922000-1778947200@saukvillechamber.org
SUMMARY:World War II Living History
DESCRIPTION:
URL:https://saukvillechamber.org/event/world-war-ii-living-history/
END:VEVENT
BEGIN:VEVENT
DTSTART;TZID=America/Chicago:20260516T190000
DTEND;TZID=America/Chicago:20260516T210000
DTSTAMP:20260420T054933
CREATED:20260419T175554Z
LAST-MODIFIED:20260419T175555Z
UID:3046-1778958000-1778965200@saukvillechamber.org
SUMMARY:Big Band Concert
DESCRIPTION:
URL:https://saukvillechamber.org/event/big-band-concert/
END:VEVENT
BEGIN:VEVENT
DTSTART;TZID=America/Chicago:20260525T090000
DTEND;TZID=America/Chicago:20260525T220000
DTSTAMP:20260420T054933
CREATED:20260130T020000Z
LAST-MODIFIED:20260130T020001Z
UID:3004-1779699600-1779746400@saukvillechamber.org
SUMMARY:Memorial Day Parade
DESCRIPTION:
URL:https://saukvillechamber.org/event/memorial-day-parade/
END:VEVENT
END:VCALENDAR